BEGIN:VCALENDAR
VERSION:2.0
PRODID:-//LIVRE — Legislativas 2025 - ECPv6.3.3.1//NONSGML v1.0//EN
CALSCALE:GREGORIAN
METHOD:PUBLISH
X-ORIGINAL-URL:https://partidolivre.pt/legislativas2025
X-WR-CALDESC:Events for LIVRE — Legislativas 2025
REFRESH-INTERVAL;VALUE=DURATION:PT1H
X-Robots-Tag:noindex
X-PUBLISHED-TTL:PT1H
BEGIN:VTIMEZONE
TZID:Europe/Lisbon
BEGIN:DAYLIGHT
TZOFFSETFROM:+0000
TZOFFSETTO:+0100
TZNAME:WEST
DTSTART:20250330T010000
END:DAYLIGHT
BEGIN:STANDARD
TZOFFSETFROM:+0100
TZOFFSETTO:+0000
TZNAME:WET
DTSTART:20251026T010000
END:STANDARD
END:VTIMEZONE
BEGIN:VEVENT
DTSTART;TZID=Europe/Lisbon:20250514T213000
DTEND;TZID=Europe/Lisbon:20250514T230000
DTSTAMP:20260422T074052
CREATED:20240301T155055Z
LAST-MODIFIED:20250515T103827Z
UID:10000012-1747258200-1747263600@partidolivre.pt
SUMMARY:Braga: Festa de Encerramento de Campanha 🎉
DESCRIPTION:Juntamo-nos em Braga para festejar esta campanha com os cabeças-de-lista pelo distrito\, Jorge Araújo e Teresa Mota! \n📍 Sé la Vie\, Braga\n📅 Quarta\, 14 maio\n🕡 21h30
URL:https://partidolivre.pt/legislativas2025/evento/braga-festa-de-encerramento-de-campanha/
LOCATION:Sé La Vie\, R. Dom Paio Mendes 37\, Braga
CATEGORIES:Braga
END:VEVENT
END:VCALENDAR