BEGIN:VCALENDAR
VERSION:2.0
PRODID:-//LIVRE — Legislativas 2025 - ECPv6.3.3.1//NONSGML v1.0//EN
CALSCALE:GREGORIAN
METHOD:PUBLISH
X-WR-CALNAME:LIVRE — Legislativas 2025
X-ORIGINAL-URL:https://partidolivre.pt/legislativas2025
X-WR-CALDESC:Events for LIVRE — Legislativas 2025
REFRESH-INTERVAL;VALUE=DURATION:PT1H
X-Robots-Tag:noindex
X-PUBLISHED-TTL:PT1H
BEGIN:VTIMEZONE
TZID:Europe/Lisbon
BEGIN:DAYLIGHT
TZOFFSETFROM:+0000
TZOFFSETTO:+0100
TZNAME:WEST
DTSTART:20250330T010000
END:DAYLIGHT
BEGIN:STANDARD
TZOFFSETFROM:+0100
TZOFFSETTO:+0000
TZNAME:WET
DTSTART:20251026T010000
END:STANDARD
END:VTIMEZONE
BEGIN:VEVENT
DTSTART;VALUE=DATE:20250515
DTEND;VALUE=DATE:20250517
DTSTAMP:20260422T225111
CREATED:20240301T155403Z
LAST-MODIFIED:20250512T183831Z
UID:10000013-1747267200-1747439999@partidolivre.pt
SUMMARY:Lisboa e Porto: Festa Comício 🎉
DESCRIPTION:O LIVRE prepara-se para estas Eleições com duas festas para ti e para todas e todos os que querem um país melhor! \nPrecisamos de ti! A tua presença é importante para mostrar a energia do LIVRE!\nInscreve-te e assegura o teu lugar. \nEm Lisboa\n📍 Teatro Thalia\, Lisboa\n📅 Quinta\, 15 maio\n🕡 19h00 \nInscreve-te aqui! \nNo Porto\n📍 Armazém 22\, Vila Nova de Gaia\n📅 Sexta\, 16 maio\n🕡 18h30 \nInscreve-te aqui! \n   
URL:https://partidolivre.pt/legislativas2025/evento/lisboa-porto-festa-comicio/
CATEGORIES:Geral,Porto
END:VEVENT
BEGIN:VEVENT
DTSTART;TZID=Europe/Lisbon:20250515T190000
DTEND;TZID=Europe/Lisbon:20250515T220000
DTSTAMP:20260422T225111
CREATED:20240304T114435Z
LAST-MODIFIED:20250515T104028Z
UID:10000021-1747335600-1747346400@partidolivre.pt
SUMMARY:Lisboa: Festa Comício 🎉
DESCRIPTION:Junta-te a nós numa Festa Comício em Lisboa\, nesta última semana de campanha! \n📍 Teatro Thalia\, Lisboa\n📅 Quinta\, 15 maio\n🕡 19h00 \nInscreve-te aqui!
URL:https://partidolivre.pt/legislativas2025/evento/lisboa-festa-comicio/
LOCATION:Teatro Thalia\, Lisboa
CATEGORIES:Geral,Lisboa
END:VEVENT
END:VCALENDAR